BEGIN:VCALENDAR
VERSION:2.0
PRODID:-//eventon.com NONSGML v1.0//EN
CALSCALE:GREGORIAN
METHOD:PUBLISH
BEGIN:VEVENT
UID:69e63b09a6bf8
DTSTAMP:20260420T144113Z
DTSTART:20251220T024500Z
DTEND:20251220T040000Z
LOCATION:Parterre du Quartier des spectacles Montreal\,  Quebec H2X 2T1
SUMMARY:21h45 | Frais Dispo
DESCRIPTION:Frais Dispo\,  c’est le nom qu’ont choisi les musiciens de 
 Foreign Diplomats pour lancer leur tout premier album en français. Bien pl
 us qu’un projet parallèle\,  Frais Dispo marque un nouveau jalon dans le
  parcours d’Élie Raymond\,  d’Antoine Lévesque-Roy\,  de Thomas Brune
 au Faubert\,  de Charles Primeau et d’Antoine Gallois. Un premier[..]\nht
 tps://noeldansleparc.com/events/21h30-frais-dispo/
URL:https://noeldansleparc.com/events/21h30-frais-dispo/
END:VEVENT
END:VCALENDAR